BEGIN:VCALENDAR
VERSION:2.0
PRODID:-//eventon.com NONSGML v1.0//EN
CALSCALE:GREGORIAN
METHOD:PUBLISH
BEGIN:VEVENT
UID:69eb260c78d87
DTSTAMP:20260424T081300Z
DTSTART:20260427T133000Z
DTEND:20260427T143000Z
LOCATION:Hexagone Auditorium 163 Avenue de Luminy
SUMMARY:INTERNAL SEMINAR â€“ SolÃ¨ne Song (MMG)
DESCRIPTION:SolÃ¨ne Song (MMG) will give a short internal seminar. Location
 :Â Hexagone Auditorium Date: 27.04.2026 Time:Â 1:30 PM CENTURI is also prov
 iding for off-campus participants onlyÂ a zoom link to attend the seminar:Â
  https://us02web.zoom.us/j/85941690095?pwd=Nm5NVGhESGlUbG1FMnZ2dU5vSlkxUT09
  Meeting ID: 859 4169 0095 Secret Code: 002024 Title: Measuring the influen
 ce of tissue spatial organization on cell trajectoriesÂ through domain dete
 ction[..]\nhttps://centuri-livingsystems.org/events/internal-seminar-solene
 -song-ibdm/
URL:https://centuri-livingsystems.org/events/internal-seminar-solene-song-ibdm/
END:VEVENT
END:VCALENDAR