BEGIN:VCALENDAR
VERSION:2.0
PRODID:-//eventon.com NONSGML v1.0//EN
CALSCALE:GREGORIAN
METHOD:PUBLISH
BEGIN:VEVENT
UID:69e74672122d7
DTSTAMP:20260421T094210Z
DTSTART:20180911T080000Z
DTEND:20180912T173000Z
LOCATION:Mucem 7 Prom. Robert Laffont\,  13002 Marseille
SUMMARY:Physics of Living Matter 2018
DESCRIPTION:CENTURI will host the 13th edition of PLM in Marseille at the M
 UCEM the 11 &amp; 12 September 2018. Registration deadline : 31st August Mo
 re information at www.plm-symposium.org &nbsp; Invited Speakers Turing Lect
 ure: Ben SIMONS (Univ. of Cambridge\,  UK) Bragg Lecture: Terence HWA (Un
 iv. of California\,  San Diego\,  USA) Rosa COSSART (INMED\, [..]\nhttps://
 centuri-livingsystems.org/events/physics-of-living-matter-2018/
URL:https://centuri-livingsystems.org/events/physics-of-living-matter-2018/
END:VEVENT
END:VCALENDAR