BEGIN:VCALENDAR
VERSION:2.0
PRODID:-//eventon.com NONSGML v1.0//EN
CALSCALE:GREGORIAN
METHOD:PUBLISH
BEGIN:VEVENT
UID:69e739141fdc5
DTSTAMP:20260421T084508Z
DTSTART:20250616T133000Z
DTEND:20250616T143000Z
LOCATION:Hexagone\,  Amphitheatre 163 Avenue de Luminy
SUMMARY:INTERNAL SEMINAR – Emilie Franceschini (LMA)
DESCRIPTION:Emilie Franceschini (LMA) will give a short internal seminar. T
 his seminar will take place at the Hexagone Auditorium. CENTURI is also pro
 viding for off-campus participants only a zoom link to attend the seminar
 : https://us02web.zoom.us/j/85941690095?pwd=Nm5NVGhESGlUbG1FMnZ2dU5vSlkxUT
 09 Meeting ID: 859 4169 0095 Secret Code: 002024 Title: Ultrasound as a Too
 l for Inferring Blood Cell Mechanics and[..]\nhttps://centuri-livingsystems
 .org/events/internal-seminar-emilie-franceschini-lma-2/
URL:https://centuri-livingsystems.org/events/internal-seminar-emilie-franceschini-lma-2/
END:VEVENT
END:VCALENDAR